BEGIN:VCALENDAR
VERSION:2.0
PRODID:-//Lancaster University Digital Humanities Hub - ECPv6.15.20//NONSGML v1.0//EN
CALSCALE:GREGORIAN
METHOD:PUBLISH
X-WR-CALNAME:Lancaster University Digital Humanities Hub
X-ORIGINAL-URL:https://www.lancaster.ac.uk/digitalhumanities
X-WR-CALDESC:Events for Lancaster University Digital Humanities Hub
REFRESH-INTERVAL;VALUE=DURATION:PT1H
X-Robots-Tag:noindex
X-PUBLISHED-TTL:PT1H
BEGIN:VTIMEZONE
TZID:UTC
BEGIN:STANDARD
TZOFFSETFROM:+0000
TZOFFSETTO:+0000
TZNAME:UTC
DTSTART:20190101T000000
END:STANDARD
END:VTIMEZONE
BEGIN:VEVENT
DTSTART;VALUE=DATE:20200725
DTEND;VALUE=DATE:20200726
DTSTAMP:20260423T173141
CREATED:20200602T114658Z
LAST-MODIFIED:20200602T114658Z
UID:3352-1595635200-1595721599@www.lancaster.ac.uk
SUMMARY:An other test
DESCRIPTION:An other testAn other testAn other test \nAn other testAn other testAn other testAn other testAn other testAn other testAn other testAn other test.An other testAn other testAn other testAn other testAn other testAn other testAn other testAn other test.An other testAn other testAn other testAn other testAn other testAn other testAn other testAn other test. \nAn other testAn other testAn other testAn other testAn other testAn other testAn other testAn other test. \nAn other testAn other testAn other testAn other testAn other testAn other testAn other testAn other test.
URL:https://www.lancaster.ac.uk/digitalhumanities/event/an-other-test/
END:VEVENT
BEGIN:VEVENT
DTSTART;VALUE=DATE:20200630
DTEND;VALUE=DATE:20200701
DTSTAMP:20260423T173141
CREATED:20200406T085758Z
LAST-MODIFIED:20200602T114548Z
UID:3107-1593475200-1593561599@www.lancaster.ac.uk
SUMMARY:Test event
DESCRIPTION:Some intro text.Some intro text.Some intro text.Some intro text.Some intro text.Some intro text.Some intro text.Some intro text.Some intro text.Some intro text.Some intro text.Some intro text.Some intro text.Some intro text.Some intro text.Some intro text.Some intro text.Some intro text.Some intro text.Some intro text. \nSome intro text.Some intro text.Some intro text.Some intro text.Some intro text.Some intro text.Some intro text.
URL:https://www.lancaster.ac.uk/digitalhumanities/event/test-event/
LOCATION:Lancaster University\, Bailrigg Road\, Lancaster\, LA1 4YW\, United Kingdom
CATEGORIES:Summer School
ATTACH;FMTTYPE=image/jpeg:https://www.lancaster.ac.uk/digitalhumanities/wp-content/uploads/2020/03/team1-e1587525840335.jpg
END:VEVENT
END:VCALENDAR